Workbook

Sheet Hinweise
A1: Hinweise der Geschäftsstellen der Regionalen Kommissionen Kinder- u. Jugendhilfe
A2: für die Benutzung der Excel - Datei und beizufügende Unterlagen
A4: 1. Allgemeines
A6: Die jeweils aktuell gültige Version steht auf der Homepage der Regionalen Kommission Südbayern als Download zur Verfügung.
A7: Die einzelnen Tabellenblätter sind geschützt. Eingaben können somit nur in den Zellen erfolgen, für die Eingaben erwartet werden (gelb unterlegte Zellen).
A8: Dieser Blattschutz kann aufgehoben werden (Extras/Schutz/Blattschutz aufheben).
A10: Die Aufteilung etwaiger Fremdleistungskosten auf die Positionen 1.2 bis einschließlich 1.6 des Kalukationsblattes soll die üblichen Personalschlüssel weder verbessern, noch verschlechtern. Durch Fremdvergabe enthaltene Sachkosten werden angemessen berücksichtigt.
A12: 2. Zusätzliche Unterlagen
A13: Haben sich keine Änderungen ergeben oder liegen diese Unterlagen bereits vor, müssen diese nicht wieder beigelegt zu werden!
A14: Damit das Angebot möglichst zügig geprüft werden kann, sind neben diesem Angebot folgende Unterlagen beizufügen:
A15: a) | B15: Aktuelle Betriebserlaubnis
B16: Ist eine aktuelle bzw. schriftliche Betriebserlaubnis nicht vorhanden, bitte hierzu genauere Ausführungen.
A17: b) | B17: Leistungsbeschreibung - in Schriftform oder E-Mail-Anhang
A18: c) | B18: Qualitätsentwicklungsbeschreibung - in Schriftform oder E-Mail-Anhang bzw. Erklärung, dass die Qualität nach Anlage 2.1 des Rahmenvertrags nach § 78 f SGB VIII erbracht wird
A21: d) | B21: aktuelle Brandversicherungsurkunde (Kopie)
B22: Falls sich in dem Gebäude mehrere verschiedene Einrichtungen/Einrichtungsteile oder private Wohnungen u. ä befinden, ist auf einem Beiblatt eine Aufteilung nach Art und qm - Anteil vorzunehmen.
A23: e) | B23: Darlehensverträge für den Erwerb, Umbau oder Sanierung der Einrichtung (Kopien)
B24: Aus diesen Unterlagen muss zweifelsfrei hervorgehen, für welchen Zweck das Darlehen aufgenommen wurde. Umfasst das Darlehen nicht allein die Einrichtung/Einrichtungsteil, für die das Angebot vorgelegt wurde, ist eine genaue Erläuterung und ggf. Aufteilung vorzulegen.
A25: f) | B25: Kauf-/Leasingverträge Kfz (Kopie)

Sheet Angebot Deckblatt
A1: Anlage 3 zum Rahmenvertrag § 78 f SGB VIII | G1: Datum Angebot:
A2: Angebot zum Abschluss einer Vereinbarung gem. § 78 b Abs. 1 SGB VIII
A3: Einrichtung:
A4: Aktenzeichen:
A5: Einrichtungsart gem. Liste: | B5: =Daten!B11&Daten!B12&Daten!B13&Daten!B14&Daten!B15&Daten!B16&Daten!B17&Daten!B18&Daten!B19&Daten!B20&Daten!B21&Daten!B22&Daten!B23&Daten!B24&Daten!B25&Daten!B26&Daten!B27&Daten!B28&Daten!B29&Daten!B30&Daten!B31&Daten!B32&Daten!B33&Daten!B34
A6: Ansprechpartner:
A7: Straße:
A8: PLZ Ort:
A9: Telefon / Fax:
A10: E-Mail / Homepage:
A11: Träger:
A12: Ansprechpartner:
A13: Straße:
A14: PLZ Ort:
A15: Telefon / Fax:
A16: E-Mail / Homepage:
A17: Trägervereinigung/-verband:
... A20: Öffentl. Jugendhilfe:
A21: Regionale Kommission Kinder- u. Jugendhilfe: | B21: =IF(Daten!B1=2,Daten!A3,IF(Daten!B1=3,Daten!A4,IF(Daten!B1=4,Daten!A5,IF(Daten!B1=5,Daten!A6,""))))
A24: Leistung gem. § 78 a Abs. 1 SGB VIII
A25: Öffnungstage gem. Leistungsbeschreibung/-vereinbarung:
A26: Anzahl der Plätze:
A27: wenn abweichend, Anzahl Plätze bisher:
A28: Berechnungstage gem. § 12 Rahmenvertrag:
A29: Vereinbarungszeitraum von: | E29: bis
A30: letztes Entgelt vereinbart von: | E30: bis
A31: Leistungsvereinbarung vom:
A33: Qualitätsentwicklungsvereinbarung vom:
A36: Betriebserlaubnis gem. § 45 SGB VIII vom:
A47: Für o. g. Einrichtung bieten wir die Vereinbarung nachfolgend aufgeführter leistungsgerechter Entgelte an. Die Entgelte beziehen sich auf die dem Angebot beigefügte Leistungs- und Qualitätsentwicklungsbeschreibung und die Kalkulationsblätter.

Sheet Vollmacht und RV
A1: VOLLMACHT
A3: Der Träger der Einrichtung ist der Vereinbarung gem. § 78 e Abs. 3 SGB VIII beigetreten und bevollmächtigt seine zuständige Trägervereinigung
B4: ='Angebot Deckblatt'!B17 -> 0
A8: Vereinbarungen nach § 78 b Abs. 1 und 2 SGB VIII für die auf Seite 1 genannte Einrichtung in der zuständigen Regionalen Kommission Kinder- und Jugendhilfe im Rahmen von § 4 Abs. 1 der Vereinbarung nach § 78 e Abs. 3 SGB VIII über die Bildung von Kommissionen abzuschließen. Gleichzeitig erklärt sich der Einrichtungsträger damit einverstanden, dass neue oder geänderte Betriebserlaubnisse von den Heimaufsichtsbehörden nach Erstellung in Abdruck an die zuständige Geschäftsstelle weitergeleitet werden können.
A10: Träger: | B10: ='Angebot Deckblatt'!$B$11 -> 0
A11: Name der Einrichtung: | B11: ='Angebot Deckblatt'!$B$3 -> 0
A12: Art der Einrichtung: | B12: ='Angebot Deckblatt'!$B$5
A13: Anschrift der Einrichtung: | B13: ='Angebot Deckblatt'!$B$7 -> 0
A14: Geplanter Vereinbarungszeitraum: | B14: ='Angebot Deckblatt'!$B$29 -> 0 | C14: ='Angebot Deckblatt'!$G$29 -> 0
A15: Aktenzeichen Reg. Kommission: | B15: ='Angebot Deckblatt'!$B$4 -> 0
A19: Ort, Datum | C19: Rechtsverbindliche Unterschrift und Stempel des Einrichtungsträgers
A25: Die Vertretung in der Regionalen Kommission Kinder- und Jugendhilfe wird wahrgenommen.
A29: Ort, Datum | C29: Unterschrift und Stempel des Spitzenverbandes
A38: Bayerischer Rahmenvertrag nach § 78 f SGB VIII
A42: Der bayerische Rahmenvertrag nach § 78 f SGB VIII in seiner aktuellen Fassung ist Grundlage für dieses Angebot zum Abschluss der Vereinbarungen gem. § 78 b Abs.1 und 2 SGB VIII (Leistungs-, Entgelt- und Qualitätsentwicklungsvereinbarung). Der Rahmenvertrag wird Inhalt dieser Vereinbarungen für die Dauer des Vereinbarungszeitraums.
A44: Träger: | B44: =B10 -> 0
A45: Name der Einrichtung: | B45: =B11 -> 0
A46: Aktenzeichen Reg. Kommission: | B46: =B15 -> 0
A47: Geplanter Vereinbarungszeitraum: | B47: =B14 -> 0 | C47: =C14 -> 0
A52: Ort, Datum | C52: Rechtsverbindliche Unterschrift und Stempel des Einrichtungsträgers

Sheet Personalplan
A1: Personalplan
A2: Träger: | C2: ='Angebot Deckblatt'!$B$11 -> 0 | P2: ='Angebot Deckblatt'!$I$1 -> 0
A3: Name der Einrichtung: | C3: ='Angebot Deckblatt'!$B$3 -> 0
A4: Art der Einrichtung: | C4: ='Angebot Deckblatt'!$B$5
A5: Aktenzeichen: | C5: ='Angebot Deckblatt'!$B$4 -> 0
A6: Geplanter Vereinbarungszeitraum: | C6: ='Angebot Deckblatt'!$B$29 -> 0 | D6: bis | E6: ='Angebot Deckblatt'!$G$29 -> 0 | F6: ='Angebot Deckblatt'!$G$29 -> 0
A7: A) | B7: B) | C7: C) | D7: D) | J7: E) | K7: Zulagen | N7: F) | O7: G) | P7: H)
A8: Lfd: Nr | B8: Qualifikation | C8: Planstellenanteil/ Vollzeitkraft (prospektiv) | D8: Tarifsystem: | J8: Personal-kosten-pauschale gem. Anhang H | K8: Wohnzulage | L8: Schicht-zulage | M8: Sonst. Zulagen (Über- leitung Z) | N8: Su. Zulagen | O8: Gesamtko-sten brutto prospektiv und Zulagen (D+F) | P8: Gesamtko-sten brutto Pauschale und Zulagen (E+F)
D10: ='Angebot Deckblatt'!$B$29 -> 0
D11: Vergütungsgrup-pe gem. o. g. Tarifsystem | E11: Arbeitsbeginn bis 31.12.2006: Verg.gruppe BAT / Stufe | F11: Geburtsdatum | G11: Arbeitsbeginn ab 1.1.2007: Entgeltgr. TVÖD/TVS+E | H11: Eintrittsdatum | I11: Prospekt. Kosten
A13: 1. Leitung
A14: =IF(B14=""," ","1.1") | N14: =K14+L14+M14 -> 0 | O14: =I14+N14 -> 0 | P14: =J14+N14 -> 0
A15: =IF(B15=""," ","1.2") | N15: =K15+L15+M15 -> 0 | O15: =I15+N15 -> 0 | P15: =J15+N15 -> 0
A16: =IF(B16=""," ","1.3") | N16: =K16+L16+M16 -> 0 | O16: =I16+N16 -> 0 | P16: =J16+N16 -> 0
A17: =IF(B17=""," ","1.4") | N17: =K17+L17+M17 -> 0 | O17: =I17+N17 -> 0 | P17: =J17+N17 -> 0
A18: =IF(B18=""," ","1.5") | N18: =K18+L18+M18 -> 0 | O18: =I18+N18 -> 0 | P18: =J18+N18 -> 0
A19: Summe Nummer 1. Leitung | C19: =SUM(C14:C18) -> 0 | D19: =SUM(D14:D18) -> 0 | F19: =SUM(F14:F18) -> 0 | I19: =SUM(I14:I18) -> 0 | J19: =SUM(J14:J18) -> 0 | K19: =SUM(K14:K18) -> 0 | L19: =SUM(L14:L18) -> 0 | M19: =SUM(M14:M18) -> 0 | N19: =SUM(N14:N18) -> 0 | O19: =SUM(O14:O18) -> 0 | P19: =SUM(P14:P18) -> 0
A20: 2. Verwaltung
A21: =IF(B21=""," ","2.1") | N21: =K21+L21+M21 -> 0 | O21: =I21+N21 -> 0 | P21: =J21+N21 -> 0
A22: =IF(B22=""," ","2.2") | N22: =K22+L22+M22 -> 0 | O22: =I22+N22 -> 0 | P22: =J22+N22 -> 0
A23: =IF(B23=""," ","2.3") | N23: =K23+L23+M23 -> 0 | O23: =I23+N23 -> 0 | P23: =J23+N23 -> 0
A24: =IF(B24=""," ","2.4") | N24: =K24+L24+M24 -> 0 | O24: =I24+N24 -> 0 | P24: =J24+N24 -> 0
A25: =IF(B25=""," ","2.5") | N25: =K25+L25+M25 -> 0 | O25: =I25+N25 -> 0 | P25: =J25+N25 -> 0
A26: =IF(B26=""," ","2.6") | N26: =K26+L26+M26 -> 0 | O26: =I26+N26 -> 0 | P26: =J26+N26 -> 0
A27: =IF(B27=""," ","2.7") | N27: =K27+L27+M27 -> 0 | O27: =I27+N27 -> 0 | P27: =J27+N27 -> 0
A28: Summe Nummer 2. Verwaltung | C28: =SUM(C21:C27) -> 0 | D28: =SUM(D21:D27) -> 0 | F28: =SUM(F21:F27) -> 0 | I28: =SUM(I21:I27) -> 0 | J28: =SUM(J21:J27) -> 0 | K28: =SUM(K21:K27) -> 0 | L28: =SUM(L21:L27) -> 0 | M28: =SUM(M21:M27) -> 0 | N28: =SUM(N21:N27) -> 0 | O28: =SUM(O21:O27) -> 0 | P28: =SUM(P21:P27) -> 0
A29: 3. Gruppenübergreifende Dienste
A30: =IF(B30=""," ","3.1") | N30: =K30+L30+M30 -> 0 | O30: =I30+N30 -> 0 | P30: =J30+N30 -> 0
A31: =IF(B31=""," ","3.2") | N31: =K31+L31+M31 -> 0 | O31: =I31+N31 -> 0 | P31: =J31+N31 -> 0
A32: =IF(B32=""," ","3.3") | N32: =K32+L32+M32 -> 0 | O32: =I32+N32 -> 0 | P32: =J32+N32 -> 0
A33: =IF(B33=""," ","3.4") | N33: =K33+L33+M33 -> 0 | O33: =I33+N33 -> 0 | P33: =J33+N33 -> 0
A34: =IF(B34=""," ","3.5") | N34: =K34+L34+M34 -> 0 | O34: =I34+N34 -> 0 | P34: =J34+N34 -> 0
A35: =IF(B35=""," ","3.6") | N35: =K35+L35+M35 -> 0 | O35: =I35+N35 -> 0 | P35: =J35+N35 -> 0
A36: =IF(B36=""," ","3.7") | N36: =K36+L36+M36 -> 0 | O36: =I36+N36 -> 0 | P36: =J36+N36 -> 0
A37: =IF(B37=""," ","3.8") | N37: =K37+L37+M37 -> 0 | O37: =I37+N37 -> 0 | P37: =J37+N37 -> 0
A38: =IF(B38=""," ","3.9") | N38: =K38+L38+M38 -> 0 | O38: =I38+N38 -> 0 | P38: =J38+N38 -> 0
A39: =IF(B39=""," ","3.10") | N39: =K39+L39+M39 -> 0 | O39: =I39+N39 -> 0 | P39: =J39+N39 -> 0
A40: =IF(B40=""," ","3.11") | N40: =K40+L40+M40 -> 0 | O40: =I40+N40 -> 0 | P40: =J40+N40 -> 0
A41: Summe Nummer 3. Gruppenübergreifende Dienste | C41: =SUM(C30:C40) -> 0 | I41: =SUM(I30:I40) -> 0 | J41: =SUM(J30:J40) -> 0 | K41: =SUM(K30:K40) -> 0 | L41: =SUM(L30:L40) -> 0 | M41: =SUM(M30:M40) -> 0 | N41: =SUM(N30:N40) -> 0 | O41: =SUM(O30:O40) -> 0 | P41: =SUM(P30:P40) -> 0
A42: 4. Erziehung und Betreuung
...

Sheet Inst-AfA-Tilgungsrest
A1: Instandsetzungen/Abschreibungen gemäß § 7 Abs. 4 Rahmenvetrag § 78 f SGB VIII
A3: Träger: | F3: ='Angebot Deckblatt'!$B$11 -> 0 | M3: ='Angebot Deckblatt'!$I$1 -> 0
A4: Name der Einrichtung: | F4: ='Angebot Deckblatt'!$B$3 -> 0
A5: Art der Einrichtung: | F5: ='Angebot Deckblatt'!$B$5
A6: Aktenzeichen: | F6: ='Angebot Deckblatt'!$B$4 -> 0
A7: Geplanter Vereinbarungszeitraum: | F7: ='Angebot Deckblatt'!$B$29 -> 0 | H7: bis | I7: ='Angebot Deckblatt'!$G$29 -> 0
A8: 1. | B8: Instandsetzungsaufwendungen (Nr. 3.4 Angebot)
A9: 1.1 | B9: für Gebäude
B10: Stammversicherungssumme der Gebäudebrandversicherung multipliziert mit der
B11: gültigen Baukostenrichtzahl gem. § 7 Abs. 4 S. 3 ergibt die Haftsumme (=Wiederbeschaffungswert)
C12: x | E12: = | F12: =B12*D12 -> 0
B13: Tag der Bezugsfertigkeit bzw. Sanierung:
A14: 1.1.1 | B14: bei stationären Einrichtungen im 1. Jahr 0,5 % Wiederbeschaffungswert | K14: €
A15: 1.1.2 | B15: bei stationären Einrichtungen im 2. Jahr 0,75 % Wiederbeschaffungswert | K15: €
A16: 1.2.3 | B16: bei stationären Einrichtungen im 3. Jahr 1 % Wiederbeschaffungswert | K16: €
A17: 1.1.4 | B17: bei stationären Einrichtungen ab dem 4. Jahr 1,5 % Wiederbeschaffungswert | K17: €
A18: 1.1.5 | B18: bei teilstationären Einrichtungen in den ersten 10 Jahren 1 % Wiederbeschaffungswert | K18: €
A19: 1.1.6 | B19: bei teilstationären Einrichtungen ab dem 11. Jahr 1,5 % Wiederbeschaffungswert | K19: €
D20: Plätze: | E20: ='Angebot Deckblatt'!$B$26 -> 0 | I20: + Personalbetten:
A21: 1.2 | B21: für Einrichtung:
B22: Gesamtzahl der Betten (einschließlich der Personalbetten) bzw. Plätze multipliziert
B23: Vollstat. Einrichtung (7,5% aus € 1.850,00 = € 138,75) | K23: €
B24: Vollstat. 5-Tage-Einrichtung (7,5% aus € 1.850,00 davon 75% = € 104,06) | K24: €
B25: Teilstat. Einrichtung (7,5% aus € 1.850,00, davon 50% = € 69,38) | K25: €
A26: 1.3 | B26: für Wäsche und Geschirr:
B27: Gesamtzahl der Betten (einschließlich der Personalbetten) bzw. Plätze multipliziert
B28: Vollstat. Einrichtung (25% aus € 550,00 = €137,50) | K28: €
B29: Vollstat. 5-Tage-Einrichtung (25% aus € 550,00, davon 75% = € 103,13) | K29: €
B30: Teilstat. Einrichtung (25% aus € 550,00, davon 50% = € 68,75) | K30: €
B32: Gesamtinstandsetzungen: | K32: € | L32: =L14+L15+L16+L17+L18+L19+L23+L24+L25+L28+L29+L30 -> 0
A33: 2. | B33: Abschreibungen (Nr. 3.1 Angebot)
A34: 2.1 | B34: für Gebäude (für Einrichtung, Wäsche u. Geschirr bereits in 1.2 und 1.3 enthalten)
A35: 2.1.1 | B35: grundsätzlich 1 % des Wiederbeschaffungswertes (siehe bei 1.1): | K35: € | L35: =IF(OR(K37="x",K37="X"),0,F12*1%) -> 0
A36: 2.1.2 | B36: bei Einrichtungen, deren Errichtung mit mehr als 50 % aus öffentlichen Zuschüssen
B37: gefördert wurde, in den ersten 25 Jahren 0,5 % des Wiederbeschaffungswertes X: | L37: =IF(OR(K37="x",K37="X"),F12*0.5%,0) -> 0
A38: 2.2 | B38: für Kfz (Abschreibung 5 Jahre bei Neuwagen)
B39: Anschaffungsdatum | E39: Anschaffungspreis | K39: €
B40: Anschaffungsdatum | E40: Anschaffungspreis | K40: €
B41: Anschaffungsdatum | E41: Anschaffungspreis | K41: €
B42: Anschaffungsdatum | E42: Anschaffungspreis | K42: €
...

Sheet Kalkulation
A1: Kalkulation
A2: Träger: | D2: ='Angebot Deckblatt'!$B$11 -> 0 | J2: 0
A3: Name der Einrichtung: | D3: ='Angebot Deckblatt'!$B$3 -> 0
A4: Art der Einrichtung: | D4: ='Angebot Deckblatt'!$B$5
A5: Aktenzeichen: | D5: ='Angebot Deckblatt'!$B$4 -> 0
A6: Geplanter Vereinbarungszeitraum: | D6: ='Angebot Deckblatt'!$B$29 -> 0 | E6: bis | F6: ='Angebot Deckblatt'!$G$29 -> 0
A7: Kalkulationsgrundlage: | D7: Plätze | E7: ='Angebot Deckblatt'!B26 -> 0 | F7: x Berechnungstage: | H7: ='Angebot Deckblatt'!B28 -> 0
A8: = Gesamtberechnungstage | F8: =E7*H7 -> 0
B9: Kostenarten | C9: Pädagogische | D9: pro Berech- | E9: Unterkunft und | F9: pro Berech- | G9: = einrichtungs- | H9: pro Berech- | I9: Betriebsnot- | J9: pro Berech-
C10: Versorgung | D10: nungstag | E10: Verpflegung | F10: nungstag | G10: bezogenes | H10: nungstag | I10: wendige | J10: nungstag
G11: Leistungsentgelt | I11: Investitionen
A12: 1. | B12: Personalaufwand
A13: 1.1 | B13: Leitung | C13: =IF(Personalplan!P95>=Personalplan!O95,Personalplan!O19,Personalplan!P19) -> 0 | D13: =IF(ISERROR(C13/$F$8),0,C13/$F$8) -> 0 | G13: =C13 -> 0 | H13: =D13 -> 0
A14: 1.2 | B14: Verwaltung | C14: =IF(Personalplan!P95>=Personalplan!O95,Personalplan!O28,Personalplan!P28) -> 0 | D14: =IF(ISERROR(C14/$F$8),0,C14/$F$8) -> 0 | G14: =C14 -> 0 | H14: =D14 -> 0
A15: 1.3 | B15: Gruppenübergreifende Dienste | C15: =IF(Personalplan!P95>=Personalplan!O95,Personalplan!O41,Personalplan!P41) -> 0 | D15: =IF(ISERROR(C15/$F$8),0,C15/$F$8) -> 0 | G15: =C15 -> 0 | H15: =D15 -> 0
A16: 1.4 | B16: Erziehung und Betreuung | C16: =IF(Personalplan!P95>=Personalplan!O95,Personalplan!O73,Personalplan!P73) -> 0 | D16: =IF(ISERROR(C16/$F$8),0,C16/$F$8) -> 0 | G16: =C16 -> 0 | H16: =D16 -> 0
A17: 1.5 | B17: Wirtschafts- und Versorgungsdienste | E17: =IF(Personalplan!P95>=Personalplan!O95,Personalplan!O83,Personalplan!P83) -> 0 | F17: =IF(ISERROR(E17/$F$8),0,E17/$F$8) -> 0 | G17: =E17 -> 0 | H17: =F17 -> 0
A18: 1.6 | B18: Technische Dienste | E18: =IF(Personalplan!P95>=Personalplan!O95,Personalplan!O94,Personalplan!P94) -> 0 | F18: =IF(ISERROR(E18/$F$8),0,E18/$F$8) -> 0 | G18: =E18 -> 0 | H18: =F18 -> 0
A19: 1.7 | B19: Fortbildung/Supervision | D19: =IF(ISERROR(C19/$F$8),0,C19/$F$8) -> 0 | F19: =IF(ISERROR(E19/$F$8),0,E19/$F$8) -> 0 | G19: =C19+E19 -> 0 | H19: =D19+F19 -> 0
A20: 1.8 | B20: Sonstige Personalkosten | D20: =IF(ISERROR(C20/$F$8),0,C20/$F$8) -> 0 | F20: =IF(ISERROR(E20/$F$8),0,E20/$F$8) -> 0 | G20: =C20+E20 -> 0 | H20: =D20+F20 -> 0
A21: Summe Personalaufwand | C21: =SUM(C13:C16)+SUM(C19:C20) -> 0 | D21: =SUM(D13:D16)+SUM(D19:D20) -> 0 | E21: =SUM(E16:E20) -> 0 | F21: =SUM(F17:F20) -> 0 | G21: =SUM(G13:G20) -> 0 | H21: =SUM(H13:H20) -> 0
A22: 2. | B22: Sachaufwand
A23: 2.1 | B23: Lebensmittel | F23: =IF(ISERROR(E23/$F$8),0,E23/$F$8) -> 0 | G23: =E23 -> 0 | H23: =F23 -> 0
A24: 2.2 | B24: Steuern, Abgaben Vers., Beiträge | F24: =IF(ISERROR(E24/$F$8),0,E24/$F$8) -> 0 | G24: =E24 -> 0 | H24: =F24 -> 0
A25: 2.3 | B25: Med. Sachaufwand | F25: =IF(ISERROR(E25/$F$8),0,E25/$F$8) -> 0 | G25: =E25 -> 0 | H25: =F25 -> 0
A26: 2.4 | B26: Hausdienste, Reinigung | F26: =IF(ISERROR(E26/$F$8),0,E26/$F$8) -> 0 | G26: =E26 -> 0 | H26: =F26 -> 0
A27: 2.5 | B27: Energie, Wasser | F27: =IF(ISERROR(E27/$F$8),0,E27/$F$8) -> 0 | G27: =E27 -> 0 | H27: =F27 -> 0
A28: 2.6 | B28: Wirtschaftsbedarf | F28: =IF(ISERROR(E28/$F$8),0,E28/$F$8) -> 0 | G28: =E28 -> 0 | H28: =F28 -> 0
A29: 2.7 | B29: Verwaltungsbedarf | D29: =IF(ISERROR(C29/$F$8),0,C29/$F$8) -> 0 | G29: =C29 -> 0 | H29: =D29 -> 0
A30: 2.8 | B30: Kostenbeitrag f. zentrale Verw.dienste | D30: =IF(ISERROR(C30/$F$8),0,C30/$F$8) -> 0 | G30: =C30 -> 0 | H30: =D30 -> 0
A31: 2.9 | B31: Kfz-Aufwand | F31: =IF(ISERROR(E31/$F$8),0,E31/$F$8) -> 0 | G31: =E31 -> 0 | H31: =F31 -> 0
A32: 2.10 | B32: Pauschale § 8 Abs. 3 | D32: =IF(ISERROR(C32/$F$8),0,C32/$F$8) -> 0 | G32: =C32 -> 0 | H32: =D32 -> 0
A33: 2.11 | B33: Sonst. Sächl. Betreuungsaufwand | D33: =IF(ISERROR(C33/$F$8),0,C33/$F$8) -> 0 | G33: =C33 -> 0 | H33: =D33 -> 0
A34: 2.12 | B34: Lehr- und Lernmittel | D34: =IF(ISERROR(C34/$F$8),0,C34/$F$8) -> 0 | G34: =C34 -> 0 | H34: =D34 -> 0
A35: Summe Sachaufwand | C35: =SUM(C23:C34) -> 0 | D35: =SUM(D23:D34) -> 0 | E35: =SUM(E23:E34) -> 0 | F35: =SUM(F23:F34) -> 0 | G35: =SUM(G23:G34) -> 0 | H35: =SUM(H23:H34) -> 0
A36: 3. | B36: Investitionsaufwand
A37: 3.1 | B37: Abschreibungen | I37: ='Inst-AfA-Tilgungsrest'!$L$44 -> 0 | J37: =IF(ISERROR(I37/$F$8),0,I37/$F$8) -> 0
A38: 3.2 | B38: Zinsen | I38: ='Inst-AfA-Tilgungsrest'!$H$54 -> 0 | J38: =IF(ISERROR(I38/$F$8),0,I38/$F$8) -> 0
A39: 3.3 | B39: Mieten, Erbbau, Pachten | J39: =IF(ISERROR(I39/$F$8),0,I39/$F$8) -> 0
A40: 3.4 | B40: Instandhaltungen | I40: ='Inst-AfA-Tilgungsrest'!$L$32 -> 0 | J40: =IF(ISERROR(I40/$F$8),0,I40/$F$8) -> 0
...

Sheet Angebot Entgeltvereinbarung
A1: Träger: | D1: ='Angebot Deckblatt'!$B$11 -> 0 | F1: ='Angebot Deckblatt'!$I$1 -> 0
A2: Name der Einrichtung: | D2: ='Angebot Deckblatt'!$B$3 -> 0
A3: Art der Einrichtung: | D3: ='Angebot Deckblatt'!$B$5
A4: Aktenzeichen: | D4: ='Angebot Deckblatt'!$B$4 -> 0
A5: Geplanter Vereinbarungszeitraum: | D5: ='Angebot Deckblatt'!$B$29 -> 0 | E5: bis | F5: ='Angebot Deckblatt'!$G$29 -> 0
D6: kalkulierte Gesamtkosten | E6: Berechnungstag | F6: Berechnungstag
F7: bisher
A8: 1. | B8: Einrichtungsbezogenes Leistungsentgelt
C9: Pädagogische Versorgung (abz. Einnahmen) | D9: =Kalkulation!C49 -> 0 | E9: =Kalkulation!D49 -> 0
C10: Unterkunft und Verpflegung (abz. Einnahmen) | D10: =Kalkulation!E49 -> 0 | E10: =Kalkulation!F49 -> 0
B11: Summe einrichtungsbezogenes Leistungsentgelt | D11: =SUM(D9:D10) -> 0 | E11: =SUM(E9:E10) -> 0 | F11: =SUM(F9:F10) -> 0
A12: 2. | B12: Betriebsnotwendige Investitionen (abz. Einnahmen) | D12: =Kalkulation!I49 -> 0 | E12: =Kalkulation!J49 -> 0
A13: Gesamt (1 - 2) | D13: =SUM(D11:D12) -> 0 | E13: =SUM(E11:E12) -> 0 | F13: =SUM(F11:F12) -> 0
D14: zzgl. kalkulatorischer Zuschlag
A15: 3. | B15: Allgemeiner Wagniszuschlag | D15: =Kalkulation!C51 -> 0 | E15: =Kalkulation!D51 -> 0
A16: Gesamt (1 - 3) | D16: =SUM(D13:D15) -> 0 | E16: =SUM(E13:E15) -> 0 | F16: =SUM(F13:F15) -> 0

Sheet Daten
A1: Kommissionen | B1: 1
A3: Kommission Kinder- und Jugendhilfe Franken
A4: Kommission Kinder- und Jugendhilfe Landeshauptstadt München
A5: Kommission Kinder- und Jugendhilfe Ostbayern
A6: Kommission Kinder- und Jugendhilfe Südbayern
A9: Einrichtungsarten | B9: 1
A11: AWG_HP Außenbetreutes Wohnen heilpädagogsch (auch in eigenen Wohnungen) | B11: =IF(B$9=2,A11,"")
A12: AWG_SP Außenbetreutes Wohnen sozialpädagogisch (auch in eigenen Wohnungen) | B12: =IF(B$9=3,A12,"")
A13: BA Einrichtung ausschließlich für die Berufsausbildung | B13: =IF(B$9=4,A13,"")
A14: C Clearingstelle | B14: =IF(B$9=5,A14,"")
A15: EST Erziehungsstellen | B15: =IF(B$9=6,A15,"")
A16: I_HP Internatsplätze - heilpädagogisch | B16: =IF(B$9=7,A16,"")
A17: I_SP Internatsplätze - sozialpädagogisch | B17: =IF(B$9=8,A17,"")
A18: INOB Inobhutnahme | B18: =IF(B$9=9,A18,"")
A19: ISE Intensiv sozialpädagogische Einzelbetreuung | B19: =IF(B$9=10,A19,"")
A20: IW_HP Innenbetreutes Wohnen heilpädagogisch | B20: =IF(B$9=11,A20,"")
A21: IW_SP Innenbetreutes Wohnen sozialpädagogisch | B21: =IF(B$9=12,A21,"")
A22: KHP Heilpädagogisches Heim, auch Außen-/Jugendwohngruppen | B22: =IF(B$9=13,A22,"")
A23: KSP Sozialpädagogisches Heim, auch Außen-/Jugendwohngruppen | B23: =IF(B$9=14,A23,"")
A24: KHP_T Heilpädagogisch-therapeutisches Heim | B24: =IF(B$9=15,A24,"")
A25: KHP5 5-Tage-Einrichtung heilpädagogisch | B25: =IF(B$9=16,A25,"")
A26: KSP5 5-Tage-Einrichtung sozialpädagogisch | B26: =IF(B$9=17,A26,"")
A27: MUK Heim für Mutter/Vater und Kind | B27: =IF(B$9=18,A27,"")
A28: SPW Sozialpädagogisch Betreutes Wohnen | B28: =IF(B$9=19,A28,"")
A29: TE Therapeutische Einrichtung (auch therapeutische Wohngruppen) | B29: =IF(B$9=20,A29,"")
A30: ÜBZ Überregionales Beratungszentrum | B30: =IF(B$9=21,A30,"")
A31: HPT_HP Heilpädagogische Tagesstätte | B31: =IF(B$9=22,A31,"")
A32: HPT_HP_T Heilpädagogische Tagesstätte Teilzeitgruppe | B32: =IF(B$9=23,A32,"")
A33: HPT_SP Sozialpädagogische Tagesstätte | B33: =IF(B$9=24,A33,"")
A34: HPT_SP_T Sozialpädagogische Tagesstätte Teilzeitgruppe | B34: =IF(B$9=25,A34,"")

Sheet Modul1

Sheet Tabelle1
